BEGIN:VCALENDAR
METHOD:PUBLISH
VERSION:2.0
PRODID:-//Eventilla iCal Syndication//NONSGML Liana//EN
BEGIN:VEVENT
UID:57dy8@eventilla.com
DTSTAMP:20260519T120000Z
DTSTART:20260519T120000Z
DTEND:20260519T130000Z
SUMMARY:Webinaari: Neurokirjon asiakkaan palvelupolut - Oikeaan aikaan\, oikeaan palveluun
DESCRIPTION:Tervetuloa maksuttomaan Coronaria Kuntoutuspalveluiden webinaariin\, jonka teemana on neurokirjon asiakkaan palvelupolut ja oikea-aikainen kuntoutukseen ohjautuminen.  \nNeurokirjon asiakkaiden tarpeet ovat yksilöllisiä ja palvelujärjestelmä monimuotoinen. Oikean palvelun löytäminen oikeaan aikaan\, voi olla ratkaisevaa kuntoutuksen vaikuttavuuden kannalta – mutta samalla se voi olla myös ammattilaiselle haastavaa.  \nWebinaarissa saat ajankohtaista tietoa kuntoutuspalveluistamme sekä selkeyttä palvelukokonaisuuksiin. Tarjoamme käytännönläheisiä näkökulmia\, jotka tukevat ohjaustyötäsi ja arjen päätöksentekoa. \nWebinaari on suunnattu ammattilaisille\, jotka kohtaavat työssään neurokirjon asiakkaita ja ohjaavat heitä kuntoutukseen. Tavoitteena on auttaa tunnistamaan eri tilanteisiin sopivat kuntoutusratkaisut ja sujuvoittaa asiakkaan polkua oikea-aikaisen ja vaikuttavan tuen pariin.  \nWebinaarissa käymme läpi seuraavia aiheita:  \n\n\nKuntoutuspalvelut neurokirjon asiakkaille\n\n\nKuntoutuksen oikea-aikaisuus \n\n\n\n\nKuntoutuksen merkitys ja vaikuttavuus neurokirjon asiakkaalle  \n\n\nAsiantuntijoina webinaarissamme toimivat psykoterapeutti Annika Vallin sekä sairaanhoitaja ja moniammatillisten palveluiden tuotepäällikkö Sanna Löppönen.    Tapahtumassa on rajoitettu osallistujamäärä ja tapahtuma on maksuton. \nEtkö pääse tapahtumaan? Ei huolta!\nLähetämme kaikille webinaariin ilmoittautuneille ja uutiskirjeen tilanneille tallenteen webinaarista jälkikäteen. \nTapahtuma järjestetään verkossa: ohjeet ja tuki\nOngelmatilanteissa ota yhteyttä webinaarivalvojaamme: tapahtumat@coronaria.fi\nPääset osallistumaan webinaariin Zoom-sovelluksen tai selainversion kautta. Kun olet ilmoittautunut webinaariin\, lähetämme sinulle tarkemmat ohjeet sekä webinaarin liittymislinkin.
LOCATION:Online, Zoom
URL:http://tapahtumat.coronaria.fi/neurokirjon-asiakkaan-palvelupolut
END:VEVENT
END:VCALENDAR
