BEGIN:VCALENDAR
METHOD:PUBLISH
VERSION:2.0
PRODID:-//Eventilla iCal Syndication//NONSGML Liana//EN
BEGIN:VEVENT
UID:krLk9@eventilla.com
DTSTAMP:20260326T130000Z
DTSTART:20260326T130000Z
DTEND:20260326T140000Z
SUMMARY:Webinaari: Mitä psykoterapeutin olisi hyvä tietää terapiakulttuurista?
DESCRIPTION:Itsensä kehittäminen on suuri ilmiö tässä ajassa – ja se näkyy myös psykoterapeuttien vastaanotoilla. Asiakkailla on paitsi paljon tietoa mielestä ja mielenterveydestä\, myös paine tulla jatkuvasti paremmaksi versioksi itsestään monilla eri elämänalueilla. Tällöin myös terapia voi muuttua suoritukseksi tai taitavaksi puheeksi pulmista ilman\, että mikään konkreettisesti muuttuu. \nPsykoterapeutti\, tietokirjailija Emilia Kujala on kirjoittanut kirjoissaan ja kolumneissaan tästä aihepiiristä jo usean vuoden ajan. Vastaanottotyössä hän myös kohtaa siihen liittyviä haasteita. Puheenvuorossaan Emilia sukeltaa teoriaa ja käytäntöä yhdistäen aihepiirin ytimeen. \nLisää Emiliasta:www.emiliakujala.com\n*****\nWebinaari on suunnattu psykoterapeuteille sekä psykoterapeutiksi opiskeleville. Rekrytointiasiantuntija Miia Suomi kertoo webinaarissa myös lyhyesti Coronariasta työnantajana ja psykoterapeuttien työmahdollisuuksista meillä. \nTapahtumassa on rajoitettu osallistujamäärä ja tapahtuma on maksuton.\nEtkö pääse tapahtumaan? Ei huolta!\nLähetämme kaikille webinaariin ilmoittautuneille ja uutiskirjeen tilanneille tallenteen webinaarista jälkikäteen. \nTapahtuma järjestetään verkossa: ohjeet ja tuki\nOngelmatilanteissa ota yhteyttä webinaarivalvojaamme: tapahtumat@coronaria.fi\nPääset osallistumaan webinaariin Zoom-sovelluksen tai selainversion kautta. Kun olet ilmoittautunut webinaariin\, lähetämme sinulle tarkemmat ohjeet sekä webinaarin liittymislinkin.
LOCATION:Online, Zoom
URL:http://tapahtumat.coronaria.fi/terapiakulttuuri
END:VEVENT
END:VCALENDAR
